BEGIN:VCALENDAR
VERSION:2.0
PRODID:-//Association des Joueurs d&#039;Échecs par Correspondance - ECPv6.15.20//NONSGML v1.0//EN
CALSCALE:GREGORIAN
METHOD:PUBLISH
X-ORIGINAL-URL:https://ajec-echecs.org
X-WR-CALDESC:Évènements pour Association des Joueurs d&#039;Échecs par Correspondance
REFRESH-INTERVAL;VALUE=DURATION:PT1H
X-Robots-Tag:noindex
X-PUBLISHED-TTL:PT1H
BEGIN:VTIMEZONE
TZID:Europe/Paris
BEGIN:DAYLIGHT
TZOFFSETFROM:+0100
TZOFFSETTO:+0200
TZNAME:CEST
DTSTART:20240331T010000
END:DAYLIGHT
BEGIN:STANDARD
TZOFFSETFROM:+0200
TZOFFSETTO:+0100
TZNAME:CET
DTSTART:20241027T010000
END:STANDARD
BEGIN:DAYLIGHT
TZOFFSETFROM:+0100
TZOFFSETTO:+0200
TZNAME:CEST
DTSTART:20250330T010000
END:DAYLIGHT
BEGIN:STANDARD
TZOFFSETFROM:+0200
TZOFFSETTO:+0100
TZNAME:CET
DTSTART:20251026T010000
END:STANDARD
BEGIN:DAYLIGHT
TZOFFSETFROM:+0100
TZOFFSETTO:+0200
TZNAME:CEST
DTSTART:20260329T010000
END:DAYLIGHT
BEGIN:STANDARD
TZOFFSETFROM:+0200
TZOFFSETTO:+0100
TZNAME:CET
DTSTART:20261025T010000
END:STANDARD
END:VTIMEZONE
BEGIN:VEVENT
DTSTART;VALUE=DATE:20250906
DTEND;VALUE=DATE:20250908
DTSTAMP:20260419T192044
CREATED:20241118T113347Z
LAST-MODIFIED:20250226T131657Z
UID:11573-1757116800-1757289599@ajec-echecs.org
SUMMARY:Assemblée générale AJEC 2025
DESCRIPTION:La prochaine assemblée générale se déroulera à Marseille les 6-7 septembre 2025. \n  \nMichel Lecroq
URL:https://ajec-echecs.org/event/assemblee-generale-ajec-2025/
LOCATION:Marseille\, Marseille\, France
CATEGORIES:Assemblées générales
END:VEVENT
END:VCALENDAR